Package: VAExprs Version: 1.17.0 Command: /Library/Frameworks/R.framework/Resources/bin/R CMD INSTALL VAExprs StartedAt: 2025-11-14 15:29:28 -0500 (Fri, 14 Nov 2025) EndedAt: 2025-11-14 15:29:42 -0500 (Fri, 14 Nov 2025) EllapsedTime: 14.5 seconds RetCode: 0 Status: OK