Package: VAExprs Version: 1.17.0 Maintainer: Dongmin Jung MaintainerEmail: dmdmjung at gmail.com git_url: https://git.bioconductor.org/packages/VAExprs git_branch: devel git_last_commit: 360e803 git_last_commit_date: 2025-10-29 11:11:03 -0500 (Wed, 29 Oct 2025)