Package: UniProt.ws Version: 2.51.0 Command: /home/biocbuild/bbs-3.23-bioc/R/bin/R CMD INSTALL UniProt.ws StartedAt: 2025-11-14 15:32:28 -0500 (Fri, 14 Nov 2025) EndedAt: 2025-11-14 15:32:43 -0500 (Fri, 14 Nov 2025) EllapsedTime: 14.6 seconds RetCode: 0 Status: OK