Package: UniProt.ws Version: 2.51.0 Command: /home/biocbuild/bbs-3.23-bioc/R/bin/R CMD build --keep-empty-dirs --no-resave-data UniProt.ws StartedAt: 2025-11-14 20:39:03 -0500 (Fri, 14 Nov 2025) EndedAt: 2025-11-14 20:39:28 -0500 (Fri, 14 Nov 2025) EllapsedTime: 25.0 seconds RetCode: 0 Status: OK PackageFile: UniProt.ws_2.51.0.tar.gz PackageFileSize: 241.1 KiB