Package: UniProt.ws Version: 2.51.0 Command: /Library/Frameworks/R.framework/Resources/bin/R CMD INSTALL UniProt.ws StartedAt: 2025-11-14 15:10:07 -0500 (Fri, 14 Nov 2025) EndedAt: 2025-11-14 15:10:13 -0500 (Fri, 14 Nov 2025) EllapsedTime: 6.0 seconds RetCode: 0 Status: OK