Package: UniProt.ws Version: 2.51.0 Command: /Library/Frameworks/R.framework/Resources/bin/R CMD build --keep-empty-dirs --no-resave-data UniProt.ws StartedAt: 2025-11-14 18:01:56 -0500 (Fri, 14 Nov 2025) EndedAt: 2025-11-14 18:02:11 -0500 (Fri, 14 Nov 2025) EllapsedTime: 14.2 seconds RetCode: 0 Status: OK PackageFile: UniProt.ws_2.51.0.tar.gz PackageFileSize: 241 KiB