Package: UniProt.ws Version: 2.51.0 Maintainer: Marcel Ramos MaintainerEmail: marcel.ramos at sph.cuny.edu git_url: https://git.bioconductor.org/packages/UniProt.ws git_branch: devel git_last_commit: 0cc8c13 git_last_commit_date: 2025-10-29 10:12:47 -0500 (Wed, 29 Oct 2025)