Package: Ularcirc Version: 1.29.0 Command: /home/biocbuild/bbs-3.23-bioc/R/bin/R CMD INSTALL Ularcirc StartedAt: 2025-11-13 15:41:35 -0500 (Thu, 13 Nov 2025) EndedAt: 2025-11-13 15:41:45 -0500 (Thu, 13 Nov 2025) EllapsedTime: 9.9 seconds RetCode: 0 Status: OK