Package: Ularcirc Version: 1.29.0 Command: /home/biocbuild/bbs-3.23-bioc/R/bin/R CMD build --keep-empty-dirs --no-resave-data Ularcirc StartedAt: 2025-11-13 20:38:50 -0500 (Thu, 13 Nov 2025) EndedAt: 2025-11-13 20:39:03 -0500 (Thu, 13 Nov 2025) EllapsedTime: 13.0 seconds RetCode: 0 Status: OK PackageFile: Ularcirc_1.29.0.tar.gz PackageFileSize: 5.217 MiB