Package: Ularcirc Version: 1.29.0 Command: /Library/Frameworks/R.framework/Resources/bin/R CMD build --keep-empty-dirs --no-resave-data Ularcirc StartedAt: 2025-11-13 18:04:29 -0500 (Thu, 13 Nov 2025) EndedAt: 2025-11-13 18:04:36 -0500 (Thu, 13 Nov 2025) EllapsedTime: 7.1 seconds RetCode: 0 Status: OK PackageFile: Ularcirc_1.29.0.tar.gz PackageFileSize: 5.217 MiB