Package: UPDhmm Version: 1.7.0 Command: /Library/Frameworks/R.framework/Resources/bin/R CMD INSTALL UPDhmm StartedAt: 2025-11-12 15:39:25 -0500 (Wed, 12 Nov 2025) EndedAt: 2025-11-12 15:39:26 -0500 (Wed, 12 Nov 2025) EllapsedTime: 1.3 seconds RetCode: 0 Status: OK