Package: UPDhmm Version: 1.7.0 Command: /Library/Frameworks/R.framework/Resources/bin/R CMD build --keep-empty-dirs --no-resave-data UPDhmm StartedAt: 2025-11-12 17:26:54 -0500 (Wed, 12 Nov 2025) EndedAt: 2025-11-12 17:27:07 -0500 (Wed, 12 Nov 2025) EllapsedTime: 13.2 seconds RetCode: 0 Status: OK PackageFile: UPDhmm_1.7.0.tar.gz PackageFileSize: 1.111 MiB