Package: UPDhmm Version: 1.7.0 Command: rm -rf UPDhmm.buildbin-libdir && mkdir UPDhmm.buildbin-libdir && /Users/biocbuild/BBS/utils/build-universal.sh UPDhmm_1.7.0.tar.gz /Library/Frameworks/R.framework/Resources/bin/R UPDhmm.buildbin-libdir StartedAt: 2025-11-14 00:00:47 -0500 (Fri, 14 Nov 2025) EndedAt: 2025-11-14 00:00:49 -0500 (Fri, 14 Nov 2025) EllapsedTime: 2.0 seconds RetCode: 0 Status: OK PackageFile: UPDhmm_1.7.0.tgz PackageFileSize: 1.141 MiB