Package: UNDO Version: 1.53.0 Command: /home/biocbuild/bbs-3.23-bioc/R/bin/R CMD INSTALL UNDO StartedAt: 2025-11-14 15:13:43 -0500 (Fri, 14 Nov 2025) EndedAt: 2025-11-14 15:13:46 -0500 (Fri, 14 Nov 2025) EllapsedTime: 3.6 seconds RetCode: 0 Status: OK