Package: UNDO Version: 1.53.0 Command: /home/biocbuild/bbs-3.23-bioc/R/bin/R CMD build --keep-empty-dirs --no-resave-data UNDO StartedAt: 2025-11-14 20:38:54 -0500 (Fri, 14 Nov 2025) EndedAt: 2025-11-14 20:39:03 -0500 (Fri, 14 Nov 2025) EllapsedTime: 9.0 seconds RetCode: 0 Status: OK PackageFile: UNDO_1.53.0.tar.gz PackageFileSize: 2.854 MiB