Package: UNDO Version: 1.53.0 Command: /Library/Frameworks/R.framework/Resources/bin/R CMD build --keep-empty-dirs --no-resave-data UNDO StartedAt: 2025-11-13 18:04:42 -0500 (Thu, 13 Nov 2025) EndedAt: 2025-11-13 18:04:48 -0500 (Thu, 13 Nov 2025) EllapsedTime: 6.1 seconds RetCode: 0 Status: OK PackageFile: UNDO_1.53.0.tar.gz PackageFileSize: 2.854 MiB