Package: UNDO Version: 1.53.0 Command: rm -rf UNDO.buildbin-libdir && mkdir UNDO.buildbin-libdir && /Users/biocbuild/BBS/utils/build-universal.sh UNDO_1.53.0.tar.gz /Library/Frameworks/R.framework/Resources/bin/R UNDO.buildbin-libdir StartedAt: 2025-11-14 00:00:42 -0500 (Fri, 14 Nov 2025) EndedAt: 2025-11-14 00:00:45 -0500 (Fri, 14 Nov 2025) EllapsedTime: 3.1 seconds RetCode: 0 Status: OK PackageFile: UNDO_1.53.0.tgz PackageFileSize: 2.889 MiB