Package: UCSC.utils Version: 1.7.0 Command: /home/biocbuild/bbs-3.23-bioc/R/bin/R CMD INSTALL UCSC.utils StartedAt: 2025-11-11 15:16:34 -0500 (Tue, 11 Nov 2025) EndedAt: 2025-11-11 15:16:39 -0500 (Tue, 11 Nov 2025) EllapsedTime: 4.2 seconds RetCode: 0 Status: OK