Package: UCSC.utils Version: 1.7.0 Command: /home/biocbuild/bbs-3.23-bioc/R/bin/R CMD build --keep-empty-dirs --no-resave-data UCSC.utils StartedAt: 2025-11-13 20:38:49 -0500 (Thu, 13 Nov 2025) EndedAt: 2025-11-13 20:39:01 -0500 (Thu, 13 Nov 2025) EllapsedTime: 12.0 seconds RetCode: 0 Status: OK PackageFile: UCSC.utils_1.7.0.tar.gz PackageFileSize: 230.6 KiB