Package: UCSC.utils Version: 1.7.0 Command: /Library/Frameworks/R.framework/Resources/bin/R CMD INSTALL UCSC.utils StartedAt: 2025-11-13 15:06:55 -0500 (Thu, 13 Nov 2025) EndedAt: 2025-11-13 15:06:58 -0500 (Thu, 13 Nov 2025) EllapsedTime: 2.6 seconds RetCode: 0 Status: OK