Package: UCSC.utils Version: 1.7.0 Command: /Library/Frameworks/R.framework/Resources/bin/R CMD build --keep-empty-dirs --no-resave-data UCSC.utils StartedAt: 2025-11-12 17:26:33 -0500 (Wed, 12 Nov 2025) EndedAt: 2025-11-12 17:26:41 -0500 (Wed, 12 Nov 2025) EllapsedTime: 8.1 seconds RetCode: 0 Status: OK PackageFile: UCSC.utils_1.7.0.tar.gz PackageFileSize: 230.5 KiB