Package: UCSC.utils Version: 1.7.0 Command: rm -rf UCSC.utils.buildbin-libdir && mkdir UCSC.utils.buildbin-libdir && /Users/biocbuild/BBS/utils/build-universal.sh UCSC.utils_1.7.0.tar.gz /Library/Frameworks/R.framework/Resources/bin/R UCSC.utils.buildbin-libdir StartedAt: 2025-11-12 21:13:27 -0500 (Wed, 12 Nov 2025) EndedAt: 2025-11-12 21:13:30 -0500 (Wed, 12 Nov 2025) EllapsedTime: 3.1 seconds RetCode: 0 Status: OK PackageFile: UCSC.utils_1.7.0.tgz PackageFileSize: 282.9 KiB