Package: TurboNorm Version: 1.59.0 Command: /home/biocbuild/bbs-3.23-bioc/R/bin/R CMD INSTALL TurboNorm StartedAt: 2025-11-14 15:14:22 -0500 (Fri, 14 Nov 2025) EndedAt: 2025-11-14 15:14:27 -0500 (Fri, 14 Nov 2025) EllapsedTime: 4.9 seconds RetCode: 0 Status: OK