Package: TurboNorm Version: 1.59.0 Command: /Library/Frameworks/R.framework/Resources/bin/R CMD INSTALL TurboNorm StartedAt: 2025-11-13 15:07:34 -0500 (Thu, 13 Nov 2025) EndedAt: 2025-11-13 15:07:37 -0500 (Thu, 13 Nov 2025) EllapsedTime: 2.9 seconds RetCode: 0 Status: OK