Package: TurboNorm Version: 1.59.0 Command: rm -rf TurboNorm.buildbin-libdir && mkdir TurboNorm.buildbin-libdir && /Users/biocbuild/BBS/utils/build-universal.sh TurboNorm_1.59.0.tar.gz /Library/Frameworks/R.framework/Resources/bin/R TurboNorm.buildbin-libdir StartedAt: 2025-11-14 00:00:36 -0500 (Fri, 14 Nov 2025) EndedAt: 2025-11-14 00:00:40 -0500 (Fri, 14 Nov 2025) EllapsedTime: 4.1 seconds RetCode: 0 Status: OK PackageFile: TurboNorm_1.59.0.tgz PackageFileSize: 2.05 MiB