Package: TurboNorm Version: 1.59.0 Maintainer: Maarten van Iterson MaintainerEmail: mviterson at gmail.com git_url: https://git.bioconductor.org/packages/TurboNorm git_branch: devel git_last_commit: 037c11e git_last_commit_date: 2025-10-29 10:06:24 -0500 (Wed, 29 Oct 2025)