Package: TreeSummarizedExperiment Version: 2.19.0 Command: /home/biocbuild/bbs-3.23-bioc/R/bin/R CMD INSTALL TreeSummarizedExperiment StartedAt: 2025-11-11 15:27:54 -0500 (Tue, 11 Nov 2025) EndedAt: 2025-11-11 15:28:24 -0500 (Tue, 11 Nov 2025) EllapsedTime: 30.6 seconds RetCode: 0 Status: OK