Package: TreeSummarizedExperiment Version: 2.19.0 Command: /home/biocbuild/bbs-3.23-bioc/R/bin/R CMD build --keep-empty-dirs --no-resave-data TreeSummarizedExperiment StartedAt: 2025-11-11 20:40:06 -0500 (Tue, 11 Nov 2025) EndedAt: 2025-11-11 20:41:02 -0500 (Tue, 11 Nov 2025) EllapsedTime: 56.0 seconds RetCode: 0 Status: OK PackageFile: TreeSummarizedExperiment_2.19.0.tar.gz PackageFileSize: 1.108 MiB