Package: TreeSummarizedExperiment Version: 2.19.0 Command: /Library/Frameworks/R.framework/Resources/bin/R CMD INSTALL TreeSummarizedExperiment StartedAt: 2025-11-13 15:15:08 -0500 (Thu, 13 Nov 2025) EndedAt: 2025-11-13 15:15:21 -0500 (Thu, 13 Nov 2025) EllapsedTime: 13.3 seconds RetCode: 0 Status: OK