Package: TreeSummarizedExperiment Version: 2.19.0 Command: /Library/Frameworks/R.framework/Resources/bin/R CMD check --install=check:TreeSummarizedExperiment.install-out.txt --library=/Library/Frameworks/R.framework/Resources/library --no-vignettes --timings TreeSummarizedExperiment_2.19.0.tar.gz StartedAt: 2025-11-12 20:39:57 -0500 (Wed, 12 Nov 2025) EndedAt: 2025-11-12 20:42:34 -0500 (Wed, 12 Nov 2025) EllapsedTime: 157.1 seconds RetCode: 0 Status: OK CheckDir: TreeSummarizedExperiment.Rcheck Warnings: 0