Package: TreeSummarizedExperiment Version: 2.19.0 Command: /Library/Frameworks/R.framework/Resources/bin/R CMD build --keep-empty-dirs --no-resave-data TreeSummarizedExperiment StartedAt: 2025-11-12 17:25:07 -0500 (Wed, 12 Nov 2025) EndedAt: 2025-11-12 17:25:35 -0500 (Wed, 12 Nov 2025) EllapsedTime: 28.4 seconds RetCode: 0 Status: OK PackageFile: TreeSummarizedExperiment_2.19.0.tar.gz PackageFileSize: 1.104 MiB