Package: TreeAndLeaf Version: 1.23.0 Command: /home/biocbuild/bbs-3.23-bioc/R/bin/R CMD build --keep-empty-dirs --no-resave-data TreeAndLeaf StartedAt: 2025-11-11 20:39:55 -0500 (Tue, 11 Nov 2025) EndedAt: 2025-11-11 20:40:06 -0500 (Tue, 11 Nov 2025) EllapsedTime: 11.0 seconds RetCode: 0 Status: OK PackageFile: TreeAndLeaf_1.23.0.tar.gz PackageFileSize: 5.881 MiB