Package: TreeAndLeaf Version: 1.23.0 Command: /Library/Frameworks/R.framework/Resources/bin/R CMD build --keep-empty-dirs --no-resave-data TreeAndLeaf StartedAt: 2025-11-12 17:25:03 -0500 (Wed, 12 Nov 2025) EndedAt: 2025-11-12 17:25:11 -0500 (Wed, 12 Nov 2025) EllapsedTime: 7.1 seconds RetCode: 0 Status: OK PackageFile: TreeAndLeaf_1.23.0.tar.gz PackageFileSize: 5.627 MiB