Package: TreeAndLeaf Version: 1.23.0 Command: rm -rf TreeAndLeaf.buildbin-libdir && mkdir TreeAndLeaf.buildbin-libdir && /Users/biocbuild/BBS/utils/build-universal.sh TreeAndLeaf_1.23.0.tar.gz /Library/Frameworks/R.framework/Resources/bin/R TreeAndLeaf.buildbin-libdir StartedAt: 2025-11-14 00:00:17 -0500 (Fri, 14 Nov 2025) EndedAt: 2025-11-14 00:00:20 -0500 (Fri, 14 Nov 2025) EllapsedTime: 3.1 seconds RetCode: 0 Status: OK PackageFile: TreeAndLeaf_1.23.0.tgz PackageFileSize: 3.165 MiB