Package: TreeAndLeaf Version: 1.23.0 Maintainer: Milena A. Cardoso MaintainerEmail: milenandreuzo at gmail.com git_url: https://git.bioconductor.org/packages/TreeAndLeaf git_branch: devel git_last_commit: f0aa6ca git_last_commit_date: 2025-10-29 10:56:45 -0500 (Wed, 29 Oct 2025)