Package: TransView Version: 1.53.1 Command: /home/biocbuild/bbs-3.23-bioc/R/bin/R CMD INSTALL TransView StartedAt: 2025-10-22 21:09:10 -0000 (Wed, 22 Oct 2025) EndedAt: 2025-10-22 21:09:26 -0000 (Wed, 22 Oct 2025) EllapsedTime: 16.4 seconds RetCode: 0 Status: OK