Package: TransView Version: 1.53.1 Command: /home/biocbuild/bbs-3.23-bioc/R/bin/R CMD build --keep-empty-dirs --no-resave-data TransView StartedAt: 2025-10-23 00:51:47 -0000 (Thu, 23 Oct 2025) EndedAt: 2025-10-23 00:52:05 -0000 (Thu, 23 Oct 2025) EllapsedTime: 18.1 seconds RetCode: 1 Status: ERROR PackageFile: None PackageFileSize: NA