Package: TrajectoryUtils Version: 1.19.0 Command: /home/biocbuild/bbs-3.23-bioc/R/bin/R CMD INSTALL TrajectoryUtils StartedAt: 2025-11-13 15:24:16 -0500 (Thu, 13 Nov 2025) EndedAt: 2025-11-13 15:24:40 -0500 (Thu, 13 Nov 2025) EllapsedTime: 23.4 seconds RetCode: 0 Status: OK