Package: TrajectoryUtils Version: 1.19.0 Command: /Library/Frameworks/R.framework/Resources/bin/R CMD INSTALL TrajectoryUtils StartedAt: 2025-11-13 15:15:21 -0500 (Thu, 13 Nov 2025) EndedAt: 2025-11-13 15:15:31 -0500 (Thu, 13 Nov 2025) EllapsedTime: 9.9 seconds RetCode: 0 Status: OK