Package: TrajectoryUtils Version: 1.19.0 Command: /Library/Frameworks/R.framework/Resources/bin/R CMD check --install=check:TrajectoryUtils.install-out.txt --library=/Library/Frameworks/R.framework/Resources/library --no-vignettes --timings TrajectoryUtils_1.19.0.tar.gz StartedAt: 2025-11-12 20:39:09 -0500 (Wed, 12 Nov 2025) EndedAt: 2025-11-12 20:40:27 -0500 (Wed, 12 Nov 2025) EllapsedTime: 78.0 seconds RetCode: 0 Status: OK CheckDir: TrajectoryUtils.Rcheck Warnings: 0