Package: TrajectoryUtils Version: 1.19.0 Command: /Library/Frameworks/R.framework/Resources/bin/R CMD build --keep-empty-dirs --no-resave-data TrajectoryUtils StartedAt: 2025-11-13 18:01:10 -0500 (Thu, 13 Nov 2025) EndedAt: 2025-11-13 18:01:28 -0500 (Thu, 13 Nov 2025) EllapsedTime: 18.2 seconds RetCode: 0 Status: OK PackageFile: TrajectoryUtils_1.19.0.tar.gz PackageFileSize: 340.7 KiB