Package: TrajectoryGeometry Version: 1.19.0 Command: /home/biocbuild/bbs-3.23-bioc/R/bin/R CMD check --install=check:TrajectoryGeometry.install-out.txt --library=/home/biocbuild/bbs-3.23-bioc/R/site-library --timings TrajectoryGeometry_1.19.0.tar.gz StartedAt: 2025-11-14 04:53:00 -0500 (Fri, 14 Nov 2025) EndedAt: 2025-11-14 04:59:12 -0500 (Fri, 14 Nov 2025) EllapsedTime: 372.4 seconds RetCode: 0 Status: OK CheckDir: TrajectoryGeometry.Rcheck Warnings: 0