Package: TrajectoryGeometry Version: 1.19.0 Command: /Library/Frameworks/R.framework/Resources/bin/R CMD build --keep-empty-dirs --no-resave-data TrajectoryGeometry StartedAt: 2025-11-13 18:01:07 -0500 (Thu, 13 Nov 2025) EndedAt: 2025-11-13 18:02:55 -0500 (Thu, 13 Nov 2025) EllapsedTime: 108.3 seconds RetCode: 0 Status: OK PackageFile: TrajectoryGeometry_1.19.0.tar.gz PackageFileSize: 1.894 MiB