Package: TrajectoryGeometry Version: 1.19.0 Maintainer: Michael Shapiro MaintainerEmail: michael.shapiro at crick.ac.uk git_url: https://git.bioconductor.org/packages/TrajectoryGeometry git_branch: devel git_last_commit: fede760 git_last_commit_date: 2025-10-29 11:06:13 -0500 (Wed, 29 Oct 2025)