Package: TrIdent Version: 1.3.0 Command: /home/biocbuild/bbs-3.23-bioc/R/bin/R CMD INSTALL TrIdent StartedAt: 2025-11-13 15:10:06 -0500 (Thu, 13 Nov 2025) EndedAt: 2025-11-13 15:10:25 -0500 (Thu, 13 Nov 2025) EllapsedTime: 18.4 seconds RetCode: 0 Status: OK