Package: TrIdent Version: 1.3.0 Command: /Library/Frameworks/R.framework/Resources/bin/R CMD build --keep-empty-dirs --no-resave-data TrIdent StartedAt: 2025-11-14 17:59:52 -0500 (Fri, 14 Nov 2025) EndedAt: 2025-11-14 18:00:14 -0500 (Fri, 14 Nov 2025) EllapsedTime: 22.3 seconds RetCode: 0 Status: OK PackageFile: TrIdent_1.3.0.tar.gz PackageFileSize: 1.758 MiB