Package: TrIdent Version: 1.3.0 Maintainer: Jessie Maier MaintainerEmail: jlmaier at ncsu.edu git_url: https://git.bioconductor.org/packages/TrIdent git_branch: devel git_last_commit: a85186c git_last_commit_date: 2025-10-29 11:33:32 -0500 (Wed, 29 Oct 2025)