Package: TissueEnrich Version: 1.31.0 Command: /Library/Frameworks/R.framework/Resources/bin/R CMD INSTALL TissueEnrich StartedAt: 2025-11-13 15:17:51 -0500 (Thu, 13 Nov 2025) EndedAt: 2025-11-13 15:18:02 -0500 (Thu, 13 Nov 2025) EllapsedTime: 11.2 seconds RetCode: 0 Status: OK