Package: TissueEnrich Version: 1.31.0 Command: /Library/Frameworks/R.framework/Resources/bin/R CMD build --keep-empty-dirs --no-resave-data TissueEnrich StartedAt: 2025-11-13 17:59:28 -0500 (Thu, 13 Nov 2025) EndedAt: 2025-11-13 17:59:51 -0500 (Thu, 13 Nov 2025) EllapsedTime: 23.3 seconds RetCode: 0 Status: OK PackageFile: TissueEnrich_1.31.0.tar.gz PackageFileSize: 3.606 MiB