Package: TissueEnrich Version: 1.31.0 Command: rm -rf TissueEnrich.buildbin-libdir && mkdir TissueEnrich.buildbin-libdir && /Users/biocbuild/BBS/utils/build-universal.sh TissueEnrich_1.31.0.tar.gz /Library/Frameworks/R.framework/Resources/bin/R TissueEnrich.buildbin-libdir StartedAt: 2025-11-13 23:59:59 -0500 (Thu, 13 Nov 2025) EndedAt: 2025-11-14 00:00:15 -0500 (Fri, 14 Nov 2025) EllapsedTime: 15.4 seconds RetCode: 0 Status: OK PackageFile: TissueEnrich_1.31.0.tgz PackageFileSize: 3.629 MiB